Workbook

Sheet kana_data
A1: item | B1: dept | C1: units | D1: price | E1: sales | F1: letter | G1: place | H1: X | I1: Y
A2: potahe | B2: 58 | C2: 14005 | D2: 0.14 | E2: =kana[[#This Row],[units]]*kana[[#This Row],[price]] -> 1960.7 | F2: k | G2: koki | H2: 12.31 | I2: 106
A3: bebope | B3: 79 | C3: 21362 | D3: 0.53 | E3: =kana[[#This Row],[units]]*kana[[#This Row],[price]] -> 11321.86 | F3: j | G3: hobu | H3: 11.16 | I3: 101.7
A4: dedisa | B4: 16 | C4: 25144 | D4: 0.46 | E4: =kana[[#This Row],[units]]*kana[[#This Row],[price]] -> 11566.24 | F4: f | G4: kura | H4: 13.82 | I4: 116.5
A5: serota | B5: 78 | C5: 23892 | D5: 0.82 | E5: =kana[[#This Row],[units]]*kana[[#This Row],[price]] -> 19591.44 | F5: o | G5: dinu | H5: 15.27 | I5: 115.8
A6: hahuku | B6: 14 | C6: 2624 | D6: 0.61 | E6: =kana[[#This Row],[units]]*kana[[#This Row],[price]] -> 1600.64 | F6: v | G6: zotu | H6: 11.82 | I6: 98.6
A7: basaka | B7: 82 | C7: 31342 | D7: 0.68 | E7: =kana[[#This Row],[units]]*kana[[#This Row],[price]] -> 21312.56 | F7: g | G7: raki | H7: 6.68 | I7: 91
A8: risike | B8: 44 | C8: 9718 | D8: 0.3 | E8: =kana[[#This Row],[units]]*kana[[#This Row],[price]] -> 2915.4 | F8: h | G8: namu | H8: 8.88 | I8: 94.4
A9: nirahi | B9: 27 | C9: 29483 | D9: 0.18 | E9: =kana[[#This Row],[units]]*kana[[#This Row],[price]] -> 5306.94 | F9: l | G9: zido | H9: 10.29 | I9: 102.6
A10: napasu | B10: 74 | C10: 12302 | D10: 0.7 | E10: =kana[[#This Row],[units]]*kana[[#This Row],[price]] -> 8611.4 | F10: k | G10: tone | H10: 5.46 | I10: 86.1
A11: hipoti | B11: 1 | C11: 31404 | D11: 0.37 | E11: =kana[[#This Row],[units]]*kana[[#This Row],[price]] -> 11619.48 | F11: g | G11: boke | H11: 11.84 | I11: 103.2
A12: tenira | B12: 65 | C12: 30575 | D12: 0.58 | E12: =kana[[#This Row],[units]]*kana[[#This Row],[price]] -> 17733.5 | F12: m | G12: hemi | H12: 9.85 | I12: 111.2
A13: zitona | B13: 13 | C13: 13151 | D13: 0.26 | E13: =kana[[#This Row],[units]]*kana[[#This Row],[price]] -> 3419.26 | F13: t | G13: tati | H13: 12.39 | I13: 106.3
... A5001: menoki | B5001: 14 | C5001: 12280 | D5001: 0.22 | E5001: =kana[[#This Row],[units]]*kana[[#This Row],[price]] -> 2701.6 | F5001: h | G5001: sono | H5001: 13.37 | I5001: 98.7

Sheet stats
A1: Statistics of the kana data
B3: dept | C3: units | D3: price | E3: sales | F3: X | G3: Y
A4: SUM | B4: =SUM(kana_data!B:B) -> 248637 | C4: =SUM(kana_data!C:C) -> 80072066 | D4: =SUM(kana_data!D:D) -> 2477.89 | E4: =SUM(kana_data!E:E) -> 39912962 | F4: =SUM(kana_data!H:H) -> 49999.64 | G4: =SUM(kana_data!I:I) -> 499998.7
A5: AVERAGE | B5: =AVERAGE(kana_data!B:B) -> 49.7274 | C5: =AVERAGE(kana_data!C:C) -> 16014.413 | D5: =AVERAGE(kana_data!D:D) -> 0.495578 | E5: =AVERAGE(kana_data!E:E) -> 7982.5924 | F5: =AVERAGE(kana_data!H:H) -> 9.999928 | G5: =AVERAGE(kana_data!I:I) -> 99.99974
A6: SD | B6: =_xlfn.STDEV.P(kana_data!B:B) -> 28.938568 | C6: =_xlfn.STDEV.P(kana_data!C:C) -> 9147.9127 | D6: =_xlfn.STDEV.P(kana_data!D:D) -> 0.28810884 | E6: =_xlfn.STDEV.P(kana_data!E:E) -> 7061.5573 | F6: =_xlfn.STDEV.P(kana_data!H:H) -> 1.9796931 | G6: =_xlfn.STDEV.P(kana_data!I:I) -> 9.9894842
A7: MIN | B7: =MIN(kana_data!B:B) -> 0 | C7: =MIN(kana_data!C:C) -> 1 | D7: =MIN(kana_data!D:D) -> 0 | E7: =MIN(kana_data!E:E) -> 0 | F7: =MIN(kana_data!H:H) -> 2.86 | G7: =MIN(kana_data!I:I) -> 68
A8: MAX | B8: =MAX(kana_data!B:B) -> 99 | C8: =MAX(kana_data!C:C) -> 31998 | D8: =MAX(kana_data!D:D) -> 0.99 | E8: =MAX(kana_data!E:E) -> 31010.76 | F8: =MAX(kana_data!H:H) -> 17.19 | G8: =MAX(kana_data!I:I) -> 137.3
A9: COUNT | B9: =COUNT(kana_data!B:B) -> 5000 | C9: =COUNT(kana_data!C:C) -> 5000 | D9: =COUNT(kana_data!D:D) -> 5000 | E9: =COUNT(kana_data!E:E) -> 5000 | F9: =COUNT(kana_data!H:H) -> 5000 | G9: =COUNT(kana_data!I:I) -> 5000
