Workbook

Sheet Sheet1
A1: Plushkin Fine Linens and Towels
A2: First Quarter Sales--Midwest Region
A4: State | B4: Sales Rep | C4: Q1 Sales | D4: Q1 Sales Prior Year | E4: Q1 Sales vs. Prior Year Q1 ($) | F4: Q1 Sales vs. Prior Year Q1 (%)
A5: Illinois | B5: Ricardo Juarez | C5: 58978 | D5: 43267
A6: Indiana | B6: Ricardo Juarez | C6: 78564 | D6: 66345
A7: Iowa | B7: Patricia Morley | C7: 45877 | D7: 56787
A8: Kansas | B8: Jonathan Stephens | C8: 67534 | D8: 60046
A9: Michigan | B9: Patricia Morley | C9: 46756 | D9: 65234
A10: Minnesota | B10: Jonathan Stephens | C10: 55898 | D10: 46287
A11: Missouri | B11: Patricia Morley | C11: 38764 | D11: 55342
A12: Nebraska | B12: Jonathan Stephens | C12: 29856 | D12: 25978
A13: North Dakota | B13: Jonathan Stephens | C13: 40967 | D13: 35098
A14: Ohio | B14: Ricardo Juarez | C14: 64533 | D14: 58745
A15: South Dakota | B15: Jonathan Stephens | C15: 31098 | D15: 26543
A16: Wisconsin | B16: Patricia Morley | C16: 14678 | D16: 27809
A18: Average Q1 sales for a state
A19: Highest Q1 sales for a state | D19: Bonus multiplier (% of rep's total sales): | F19: 0.03
A20: Lowest Q1 sales for a state
A22: Stephens average Q1 increase | E22: Stephens bonus
A23: Morley average Q1 increase | E23: Morley bonus
A24: Juarez average Q1 increase | E24: Juarez bonus
A26: Your Name

Sheet Sheet2
A1: Q1 Forecast | B1: Q1 Forecast vs. Actual Q1 Sales
A2: =Sheet1!D5*1.1 -> 47593.7 | B2: =Sheet1!C5-Sheet2!A2 -> 11384.3
A3: =Sheet1!D6*1.1 -> 72979.5 | B3: =Sheet1!C6-Sheet2!A3 -> 5584.5
A4: =Sheet1!D7*1.1 -> 62465.7 | B4: =Sheet1!C7-Sheet2!A4 -> -16588.7
A5: =Sheet1!D8*1.1 -> 66050.6 | B5: =Sheet1!C8-Sheet2!A5 -> 1483.4
A6: =Sheet1!D9*1.1 -> 71757.4 | B6: =Sheet1!C9-Sheet2!A6 -> -25001.4
A7: =Sheet1!D10*1.1 -> 50915.7 | B7: =Sheet1!C10-Sheet2!A7 -> 4982.3
A8: =Sheet1!D11*1.1 -> 60876.2 | B8: =Sheet1!C11-Sheet2!A8 -> -22112.2
A9: =Sheet1!D12*1.1 -> 28575.8 | B9: =Sheet1!C12-Sheet2!A9 -> 1280.2
A10: =Sheet1!D13*1.1 -> 38607.8 | B10: =Sheet1!C13-Sheet2!A10 -> 2359.2
A11: =Sheet1!D14*1.1 -> 64619.5 | B11: =Sheet1!C14-Sheet2!A11 -> -86.5
A12: =Sheet1!D15*1.1 -> 29197.3 | B12: =Sheet1!C15-Sheet2!A12 -> 1900.7
A13: =Sheet1!D16*1.1 -> 30589.9 | B13: =Sheet1!C16-Sheet2!A13 -> -15911.9

Sheet Sheet3
